BEGIN:VCALENDAR
VERSION:2.0
PRODID:-//ANIA - ECPv4.5.8//NONSGML v1.0//EN
CALSCALE:GREGORIAN
METHOD:PUBLISH
X-WR-CALNAME:ANIA
X-ORIGINAL-URL:https://www.ania.net
X-WR-CALDESC:Events for ANIA
BEGIN:VEVENT
DTSTART;TZID=Europe/Paris:20200702T110000
DTEND;TZID=Europe/Paris:20200702T120000
DTSTAMP:20260419T113636
CREATED:20200618T153818Z
LAST-MODIFIED:20200618T153818Z
UID:16799-1593687600-1593691200@www.ania.net
SUMMARY:[Webinaire]"EXPLOSION DE L'OMNICANAL : LES IMPACTS DU COVID-19 SUR LE E-COMMERCE"\, le 2 juillet\, à 11 h
DESCRIPTION:  \n \n \n
URL:https://www.ania.net/evenements/webinaireexplosion-de-lomnicanal-les-impacts-du-covid-19-sur-le-e-commerce-le-2-juillet-a-11-h
CATEGORIES:Recherche - Innovation
ATTACH;FMTTYPE=image/png:https://www.ania.net/wp-content/uploads/2015/06/Logo-instit.png
END:VEVENT
END:VCALENDAR