BEGIN:VCALENDAR
VERSION:2.0
PRODID:-//ANIA - ECPv4.5.8//NONSGML v1.0//EN
CALSCALE:GREGORIAN
METHOD:PUBLISH
X-WR-CALNAME:ANIA
X-ORIGINAL-URL:https://www.ania.net
X-WR-CALDESC:Events for ANIA
BEGIN:VEVENT
DTSTART;TZID=Europe/Paris:20230616T093000
DTEND;TZID=Europe/Paris:20230616T103000
DTSTAMP:20260424T170107
CREATED:20230609T144556Z
LAST-MODIFIED:20230609T144556Z
UID:20201-1686907800-1686911400@www.ania.net
SUMMARY:Webinaire sur l'analyse économique et financière de l'industrie alimentaire
DESCRIPTION: \n
URL:https://www.ania.net/evenements/webinaire-sur-lanalyse-economique-et-financiere-de-lindustrie-alimentaire
CATEGORIES:Économie - Export
END:VEVENT
END:VCALENDAR