BEGIN:VCALENDAR
VERSION:2.0
PRODID:-//ANIA - ECPv4.5.8//NONSGML v1.0//EN
CALSCALE:GREGORIAN
METHOD:PUBLISH
X-WR-CALNAME:ANIA
X-ORIGINAL-URL:https://www.ania.net
X-WR-CALDESC:Events for ANIA
BEGIN:VEVENT
DTSTART;TZID=Europe/Paris:20200702T090000
DTEND;TZID=Europe/Paris:20200702T100000
DTSTAMP:20260419T145453
CREATED:20200618T155216Z
LAST-MODIFIED:20200618T155216Z
UID:16810-1593680400-1593684000@www.ania.net
SUMMARY:[WEBINAIRE Ania] « Eco-conception de la chaîne du froid en agroalimentaire : Pour une chaîne du froid sûre et économe » ?
DESCRIPTION:  \n \n \n
URL:https://www.ania.net/evenements/webinaire-ania-eco-conception-de-la-chaine-du-froid-en-agroalimentaire-pour-une-chaine-du-froid-sure-et-econome
CATEGORIES:Recherche - Innovation
ATTACH;FMTTYPE=image/png:https://www.ania.net/wp-content/uploads/2015/06/Logo-instit.png
END:VEVENT
END:VCALENDAR