BEGIN:VCALENDAR
VERSION:2.0
PRODID:-//ANIA - ECPv4.5.8//NONSGML v1.0//EN
CALSCALE:GREGORIAN
METHOD:PUBLISH
X-WR-CALNAME:ANIA
X-ORIGINAL-URL:https://www.ania.net
X-WR-CALDESC:Events for ANIA
BEGIN:VEVENT
DTSTART;TZID=Europe/Paris:20210706T090000
DTEND;TZID=Europe/Paris:20210706T133000
DTSTAMP:20260422T235031
CREATED:20210701T084219Z
LAST-MODIFIED:20210701T084219Z
UID:18227-1625562000-1625578200@www.ania.net
SUMMARY:Think Tank Agroalimentaire - Edition 7 : Faire du citoyen-consommateur un acteur de la souveraineté alimentaire
DESCRIPTION: \n
URL:https://www.ania.net/evenements/think-tank-agroalimentaire-edition-7-faire-du-citoyen-consommateur-un-acteur-de-la-souverainete-alimentaire
CATEGORIES:Économie - Export
END:VEVENT
END:VCALENDAR