BEGIN:VCALENDAR
VERSION:2.0
PRODID:-//ANIA - ECPv4.5.8//NONSGML v1.0//EN
CALSCALE:GREGORIAN
METHOD:PUBLISH
X-WR-CALNAME:ANIA
X-ORIGINAL-URL:https://www.ania.net
X-WR-CALDESC:Events for ANIA
BEGIN:VEVENT
DTSTART;TZID=Europe/Paris:20180320T083000
DTEND;TZID=Europe/Paris:20180320T170000
DTSTAMP:20260421T081607
CREATED:20180105T161638Z
LAST-MODIFIED:20180105T161638Z
UID:11685-1521534600-1521565200@www.ania.net
SUMMARY:Les rencontres LSA / Conférence + Trophées CATEGORY MANAGEMENT
DESCRIPTION:\n\n\n\n\n\n\n\nLe category manager est l’arme anticrise la plus efficace et la plus puissante proposée aux entreprises et aux managers \nDans ce contexte la crise est une chance\, car elle va faire émerger la nécessité de travailler autrement. \n\n\n\n\n\n  \n\n\n\n\n\nPoints forts\n\nLe rendez-vous LSA incontournable de la rentrée ! Plus de 150 personnes présentes en 2017\nL’Oréal France GP\, Coca-Cola European Partners\, Mars Chocolat France… : venez découvrir de véritables retours d’expérience concrets d’acteurs clés du marché\nExclusif : la 3ème édition des Trophées LSA du Category management pour découvrir les démarches distinguées les plus innovantes du secteur\n\n\n\nActualité\n\nAffiner vos stratégies catman dans un contexte de fragmentation de la distribution et de croissance atone\nLancement produit\, efficacité promotionnelle\, stratégie de contact : bâtir une offre différenciante et créatrice de valeur\nComment favoriser une expérience shopper cohérente sur tous les canaux\n\n  \n\n\n\n\n\nAvec la participation exceptionnelle de\nFrédérique VILLIARD\, Directrice business development\, L’ORÉAL FRANCE GRAND PUBLIC\nNativité RODRIGUEZ\, Directeur marketing\, COCA-COLA EUROPEAN PARTNERS\nGuillaume BAGLIN\, Directeur marketing et commercial\, JACQUET BROSSARD\nFlorence BURTIN\, Directrice du category management\, ORANGINA SUNTORY FRANCE\nVincent DE CHIARA\, Head of category management and sales development\, FINDUS FRANCE\n  \nPour plus d’information : http://evenements.infopro-digital.com/lsa/conference-category-management-2018-7673\,programme \nEn partenariat avec l’Ania \n\n\n\n
URL:https://www.ania.net/evenements/rencontres-lsa-conference-trophees-category-management
CATEGORIES:Économie - Export
END:VEVENT
END:VCALENDAR