BEGIN:VCALENDAR
VERSION:2.0
PRODID:-//ANIA - ECPv4.5.8//NONSGML v1.0//EN
CALSCALE:GREGORIAN
METHOD:PUBLISH
X-WR-CALNAME:ANIA
X-ORIGINAL-URL:https://www.ania.net
X-WR-CALDESC:Events for ANIA
BEGIN:VEVENT
DTSTART;TZID=Europe/Paris:20180413T100000
DTEND;TZID=Europe/Paris:20180413T113000
DTSTAMP:20260419T113817
CREATED:20180227T143223Z
LAST-MODIFIED:20180227T143223Z
UID:12000-1523613600-1523619000@www.ania.net
SUMMARY:[ATELIER] TENDANCES : quelle offre nouvelle pour quel consommateur
DESCRIPTION:l’ANIA ET XTC vous invitent à un atelier\nle vendredi 13 avril 2018\ndans les locaux de l’ANIA (Paris 8è)\nde 10h à 11h30\n  \n  \nPour information : Françoise GORGA 01.53.83.86.17 et inscription ici \n
URL:https://www.ania.net/evenements/atelier-tendances-offre-nouvelle-consommateur
LOCATION:9 boulevard Malesherbes\, PAris\, 75008\, France
GEO:48.8708073;2.3223799
X-APPLE-STRUCTURED-LOCATION;VALUE=URI;X-ADDRESS=9 boulevard Malesherbes PAris 75008 France;X-APPLE-RADIUS=500;X-TITLE=9 boulevard Malesherbes:geo:2.3223799,48.8708073
CATEGORIES:Recherche - Innovation
ATTACH;FMTTYPE=image/jpeg:https://www.ania.net/wp-content/uploads/2018/02/XTC.jpg
END:VEVENT
END:VCALENDAR